BEGIN:VCALENDAR
VERSION:2.0
PRODID:-//Library Market//iCal Export//EN
BEGIN:VEVENT
SUMMARY:Paper Quilling
UID:3378
DTSTAMP:20260423T162500Z
DTSTART:20260803T220000Z
DTEND:20260803T233000Z
LOCATION:310 East Main Street, Warsaw, IN 46580, United States
ROOM: Meeting Room C
DESCRIPTION:Join us in learning this new skill or join us to make somethin
 g you already enjoy.  Materials are provided but registration is needed.
URL:https://warsaw.librarycalendar.com/event/paper-quilling-3378
END:VEVENT
END:VCALENDAR
