BEGIN:VCALENDAR
VERSION:2.0
PRODID:-//Library Market//iCal Export//EN
BEGIN:VEVENT
SUMMARY:Book Trivia
UID:3377
DTSTAMP:20260425T015600Z
DTSTART:20260818T213000Z
DTEND:20260818T223000Z
LOCATION:310 East Main Street, Warsaw, IN 46580, United States
ROOM: Meeting Room A/B
DESCRIPTION:All lovers of books, come and enjoy a great time of trivia cov
 ering all genres and eras.  Meet people who enjoy books and win some smal
 l prizes.
URL:https://warsaw.librarycalendar.com/event/book-trivia-3377
END:VEVENT
END:VCALENDAR
