BEGIN:VCALENDAR
VERSION:2.0
PRODID:-//Library Market//iCal Export//EN
BEGIN:VEVENT
SUMMARY:The Toddler Lounge
UID:3345
DTSTAMP:20260425T180400Z
DTSTART:20260901T140000Z
DTEND:20260901T160000Z
LOCATION:310 East Main Street, Warsaw, IN 46580, United States
ROOM: Meeting Room A/B
DESCRIPTION:As you walk into Room A/B, you&#039;ll notice that there is an
  area with toddler toys that your children can play with at their leisure,
  a coloring station for all ages, and a book nook for a little &quot;book 
 time&quot;.  In one corner of the room will be a &#039;resource table&#03
 9; where an organization from the community will be available to answer an
 y questions you might have about the services they offer. You&#039;ll also
  find an area where you, the caregivers, can gather and share the latest n
 ews or catch up with friends. Be sure to bring your favorite cup of coffee
  to enjoy while relaxing. This is an unstructured style of event that is m
 eant to help with finding time to spend with others. Cheerios and water wi
 ll be available for the little ones to nibble on while attending. Stay for
  a few minutes or the entire time!
URL:https://warsaw.librarycalendar.com/event/toddler-lounge-3345
END:VEVENT
END:VCALENDAR
